Package: sizepower Version: 1.77.0 Command: /home/biocbuild/bbs-3.21-bioc/R/bin/R CMD INSTALL sizepower StartedAt: 2025-02-09 15:02:54 -0500 (Sun, 09 Feb 2025) EndedAt: 2025-02-09 15:02:58 -0500 (Sun, 09 Feb 2025) EllapsedTime: 4.5 seconds RetCode: 0 Status: OK