Package: sketchR Version: 1.3.0 Maintainer: Charlotte Soneson MaintainerEmail: charlottesoneson at gmail.com git_url: https://git.bioconductor.org/packages/sketchR git_branch: devel git_last_commit: e11ec9e git_last_commit_date: 2024-12-21 13:09:26 -0500 (Sat, 21 Dec 2024)