Package: sketchR Version: 1.3.0 Command: /Library/Frameworks/R.framework/Resources/bin/R CMD build --keep-empty-dirs --no-resave-data sketchR StartedAt: 2025-02-09 17:38:42 -0500 (Sun, 09 Feb 2025) EndedAt: 2025-02-09 17:39:41 -0500 (Sun, 09 Feb 2025) EllapsedTime: 58.7 seconds RetCode: 0 Status: OK PackageFile: sketchR_1.3.0.tar.gz PackageFileSize: 1.126 MiB