Package: sketchR Version: 1.3.0 Command: /Library/Frameworks/R.framework/Resources/bin/R CMD check --install=check:sketchR.install-out.txt --library=/Library/Frameworks/R.framework/Resources/library --no-vignettes --timings sketchR_1.3.0.tar.gz StartedAt: 2025-02-09 21:25:35 -0500 (Sun, 09 Feb 2025) EndedAt: 2025-02-09 21:26:37 -0500 (Sun, 09 Feb 2025) EllapsedTime: 62.7 seconds RetCode: 0 Status: OK CheckDir: sketchR.Rcheck Warnings: 0