Package: sketchR Version: 1.3.0 Command: rm -rf sketchR.buildbin-libdir && mkdir sketchR.buildbin-libdir && /Users/biocbuild/BBS/utils/build-universal.sh sketchR_1.3.0.tar.gz /Library/Frameworks/R.framework/Resources/bin/R sketchR.buildbin-libdir StartedAt: 2025-02-05 01:03:07 -0500 (Wed, 05 Feb 2025) EndedAt: 2025-02-05 01:03:33 -0500 (Wed, 05 Feb 2025) EllapsedTime: 25.4 seconds RetCode: 0 Status: OK PackageFile: sketchR_1.3.0.tgz PackageFileSize: 1.187 MiB