Package: sketchR Version: 1.3.0 Command: /home/biocbuild/bbs-3.21-bioc/R/bin/R CMD build --keep-empty-dirs --no-resave-data sketchR StartedAt: 2025-02-12 19:15:44 -0500 (Wed, 12 Feb 2025) EndedAt: 2025-02-12 19:18:44 -0500 (Wed, 12 Feb 2025) EllapsedTime: 179.2 seconds RetCode: 0 Status: OK PackageFile: sketchR_1.3.0.tar.gz PackageFileSize: 992.1 KiB