Package: sketchR Version: 1.3.0 Command: chmod a+r sketchR -R && E:\biocbuild\bbs-3.21-bioc\R\bin\R.exe --arch x64 CMD build --keep-empty-dirs --no-resave-data sketchR StartedAt: 2025-02-09 21:44:06 -0500 (Sun, 09 Feb 2025) EndedAt: 2025-02-09 21:48:38 -0500 (Sun, 09 Feb 2025) EllapsedTime: 272.7 seconds RetCode: 0 Status: OK PackageFile: sketchR_1.3.0.tar.gz PackageFileSize: 607.2 KiB