Package: sketchR Version: 1.3.0 Command: E:\biocbuild\bbs-3.21-bioc\R\bin\R.exe CMD check --no-multiarch --install=check:sketchR.install-out.txt --library=E:\biocbuild\bbs-3.21-bioc\R\library --no-vignettes --timings sketchR_1.3.0.tar.gz StartedAt: 2025-02-04 06:00:07 -0500 (Tue, 04 Feb 2025) EndedAt: 2025-02-04 06:03:51 -0500 (Tue, 04 Feb 2025) EllapsedTime: 223.6 seconds RetCode: 0 Status: OK CheckDir: sketchR.Rcheck Warnings: 0