Package: skewr Version: 1.39.0 Command: rm -rf skewr.buildbin-libdir && mkdir skewr.buildbin-libdir && /Users/biocbuild/BBS/utils/build-universal.sh skewr_1.39.0.tar.gz /Library/Frameworks/R.framework/Resources/bin/R skewr.buildbin-libdir StartedAt: 2025-02-10 01:17:20 -0500 (Mon, 10 Feb 2025) EndedAt: 2025-02-10 01:18:33 -0500 (Mon, 10 Feb 2025) EllapsedTime: 72.6 seconds RetCode: 0 Status: OK PackageFile: skewr_1.39.0.tgz PackageFileSize: 761.1 KiB