Package: skewr Version: 1.39.0 Command: /Library/Frameworks/R.framework/Resources/bin/R CMD build --keep-empty-dirs --no-resave-data skewr StartedAt: 2025-02-09 18:30:29 -0500 (Sun, 09 Feb 2025) EndedAt: 2025-02-09 18:33:10 -0500 (Sun, 09 Feb 2025) EllapsedTime: 161.2 seconds RetCode: 0 Status: OK PackageFile: skewr_1.39.0.tar.gz PackageFileSize: 768.9 KiB