Package: skewr Version: 1.39.0 Command: /Library/Frameworks/R.framework/Resources/bin/R CMD check --install=check:skewr.install-out.txt --library=/Library/Frameworks/R.framework/Resources/library --no-vignettes --timings skewr_1.39.0.tar.gz StartedAt: 2025-02-09 23:41:51 -0500 (Sun, 09 Feb 2025) EndedAt: 2025-02-09 23:48:02 -0500 (Sun, 09 Feb 2025) EllapsedTime: 371.4 seconds RetCode: 0 Status: OK CheckDir: skewr.Rcheck Warnings: 0