Package: skewr Version: 1.39.0 Command: /home/biocbuild/bbs-3.21-bioc/R/bin/R CMD build --keep-empty-dirs --no-resave-data skewr StartedAt: 2025-02-09 19:19:41 -0500 (Sun, 09 Feb 2025) EndedAt: 2025-02-09 19:21:47 -0500 (Sun, 09 Feb 2025) EllapsedTime: 126.2 seconds RetCode: 0 Status: OK PackageFile: skewr_1.39.0.tar.gz PackageFileSize: 952.5 KiB