Package: skewr Version: 1.39.0 Command: /home/biocbuild/bbs-3.21-bioc/R/bin/R CMD check --install=check:skewr.install-out.txt --library=/home/biocbuild/bbs-3.21-bioc/R/site-library --timings skewr_1.39.0.tar.gz StartedAt: 2025-02-13 02:45:48 -0500 (Thu, 13 Feb 2025) EndedAt: 2025-02-13 02:52:58 -0500 (Thu, 13 Feb 2025) EllapsedTime: 429.6 seconds RetCode: 0 Status: OK CheckDir: skewr.Rcheck Warnings: 0