Package: skewr Version: 1.39.0 Command: /home/biocbuild/bbs-3.21-bioc/R/bin/R CMD INSTALL skewr StartedAt: 2025-02-09 16:00:56 -0500 (Sun, 09 Feb 2025) EndedAt: 2025-02-09 16:01:42 -0500 (Sun, 09 Feb 2025) EllapsedTime: 45.8 seconds RetCode: 0 Status: OK