Package: slingshot Version: 2.15.0 Command: rm -rf slingshot.buildbin-libdir && mkdir slingshot.buildbin-libdir && /Users/biocbuild/BBS/utils/build-universal.sh slingshot_2.15.0.tar.gz /Library/Frameworks/R.framework/Resources/bin/R slingshot.buildbin-libdir StartedAt: 2025-02-09 22:31:33 -0500 (Sun, 09 Feb 2025) EndedAt: 2025-02-09 22:31:45 -0500 (Sun, 09 Feb 2025) EllapsedTime: 11.3 seconds RetCode: 0 Status: OK PackageFile: slingshot_2.15.0.tgz PackageFileSize: 2.612 MiB