Package: slingshot Version: 2.15.0 Command: /Library/Frameworks/R.framework/Resources/bin/R CMD build --keep-empty-dirs --no-resave-data slingshot StartedAt: 2025-02-09 17:38:46 -0500 (Sun, 09 Feb 2025) EndedAt: 2025-02-09 17:39:11 -0500 (Sun, 09 Feb 2025) EllapsedTime: 25.3 seconds RetCode: 0 Status: OK PackageFile: slingshot_2.15.0.tar.gz PackageFileSize: 2.276 MiB