Package: slingshot Version: 2.15.0 Command: /home/biocbuild/R/R/bin/R CMD build --keep-empty-dirs --no-resave-data slingshot StartedAt: 2025-01-29 02:25:54 -0000 (Wed, 29 Jan 2025) EndedAt: 2025-01-29 02:27:10 -0000 (Wed, 29 Jan 2025) EllapsedTime: 76.1 seconds RetCode: 1 Status: ERROR PackageFile: None PackageFileSize: NA