Package: slingshot Version: 2.15.0 Command: /Library/Frameworks/R.framework/Resources/bin/R CMD check --install=check:slingshot.install-out.txt --library=/Library/Frameworks/R.framework/Resources/library --no-vignettes --timings slingshot_2.15.0.tar.gz StartedAt: 2025-02-09 23:42:03 -0500 (Sun, 09 Feb 2025) EndedAt: 2025-02-09 23:46:14 -0500 (Sun, 09 Feb 2025) EllapsedTime: 250.9 seconds RetCode: 0 Status: OK CheckDir: slingshot.Rcheck Warnings: 0