Package: slingshot Version: 2.15.0 Command: /Library/Frameworks/R.framework/Resources/bin/R CMD INSTALL slingshot StartedAt: 2025-02-09 15:12:36 -0500 (Sun, 09 Feb 2025) EndedAt: 2025-02-09 15:13:11 -0500 (Sun, 09 Feb 2025) EllapsedTime: 35.1 seconds RetCode: 0 Status: OK