Package: slingshot Version: 2.15.0 Command: /home/biocbuild/bbs-3.21-bioc/R/bin/R CMD INSTALL slingshot StartedAt: 2025-02-12 15:24:25 -0500 (Wed, 12 Feb 2025) EndedAt: 2025-02-12 15:24:50 -0500 (Wed, 12 Feb 2025) EllapsedTime: 25.5 seconds RetCode: 0 Status: OK