Package: slingshot Version: 2.15.0 Command: chmod a+r slingshot -R && E:\biocbuild\bbs-3.21-bioc\R\bin\R.exe CMD build --keep-empty-dirs --no-resave-data slingshot StartedAt: 2025-02-09 21:44:38 -0500 (Sun, 09 Feb 2025) EndedAt: 2025-02-09 21:46:27 -0500 (Sun, 09 Feb 2025) EllapsedTime: 108.8 seconds RetCode: 0 Status: OK PackageFile: slingshot_2.15.0.tar.gz PackageFileSize: 1.237 MiB