Package: slingshot Version: 2.15.0 Command: E:\biocbuild\bbs-3.21-bioc\R\bin\R.exe CMD INSTALL slingshot StartedAt: 2025-02-09 16:23:19 -0500 (Sun, 09 Feb 2025) EndedAt: 2025-02-09 16:24:07 -0500 (Sun, 09 Feb 2025) EllapsedTime: 48.8 seconds RetCode: 0 Status: OK