Package: smartid Version: 1.3.2 Command: /Library/Frameworks/R.framework/Resources/bin/R CMD build --keep-empty-dirs --no-resave-data smartid StartedAt: 2025-02-09 17:38:51 -0500 (Sun, 09 Feb 2025) EndedAt: 2025-02-09 17:39:20 -0500 (Sun, 09 Feb 2025) EllapsedTime: 28.3 seconds RetCode: 0 Status: OK PackageFile: smartid_1.3.2.tar.gz PackageFileSize: 2.013 MiB