Package: smartid Version: 1.3.2 Command: /Library/Frameworks/R.framework/Resources/bin/R CMD check --install=check:smartid.install-out.txt --library=/Library/Frameworks/R.framework/Resources/library --no-vignettes --timings smartid_1.3.2.tar.gz StartedAt: 2025-02-09 21:26:15 -0500 (Sun, 09 Feb 2025) EndedAt: 2025-02-09 21:27:28 -0500 (Sun, 09 Feb 2025) EllapsedTime: 72.8 seconds RetCode: 0 Status: OK CheckDir: smartid.Rcheck Warnings: 0