Package: smartid Version: 1.3.2 Command: /home/biocbuild/R/R/bin/R CMD build --keep-empty-dirs --no-resave-data smartid StartedAt: 2025-01-29 02:26:21 -0000 (Wed, 29 Jan 2025) EndedAt: 2025-01-29 02:28:07 -0000 (Wed, 29 Jan 2025) EllapsedTime: 106.1 seconds RetCode: 0 Status: OK PackageFile: smartid_1.3.2.tar.gz PackageFileSize: 1.583 MiB