Package: smartid Version: 1.3.2 Command: /home/biocbuild/R/R/bin/R CMD INSTALL smartid StartedAt: 2025-01-29 20:16:51 -0000 (Wed, 29 Jan 2025) EndedAt: 2025-01-29 20:17:22 -0000 (Wed, 29 Jan 2025) EllapsedTime: 31.1 seconds RetCode: 0 Status: OK