Package: smartid Version: 1.3.2 Command: rm -rf smartid.buildbin-libdir && mkdir smartid.buildbin-libdir && /Users/biocbuild/BBS/utils/build-universal.sh smartid_1.3.2.tar.gz /Library/Frameworks/R.framework/Resources/bin/R smartid.buildbin-libdir StartedAt: 2025-02-10 01:17:25 -0500 (Mon, 10 Feb 2025) EndedAt: 2025-02-10 01:17:59 -0500 (Mon, 10 Feb 2025) EllapsedTime: 34.7 seconds RetCode: 0 Status: OK PackageFile: smartid_1.3.2.tgz PackageFileSize: 2.119 MiB