Package: smartid Version: 1.3.2 Command: /Library/Frameworks/R.framework/Resources/bin/R CMD build --keep-empty-dirs --no-resave-data smartid StartedAt: 2025-02-12 18:23:02 -0500 (Wed, 12 Feb 2025) EndedAt: 2025-02-12 18:24:14 -0500 (Wed, 12 Feb 2025) EllapsedTime: 72.0 seconds RetCode: 0 Status: OK PackageFile: smartid_1.3.2.tar.gz PackageFileSize: 2.013 MiB