Package: smartid Version: 1.3.2 Command: /Library/Frameworks/R.framework/Resources/bin/R CMD check --install=check:smartid.install-out.txt --library=/Library/Frameworks/R.framework/Resources/library --no-vignettes --timings smartid_1.3.2.tar.gz StartedAt: 2025-02-12 23:27:49 -0500 (Wed, 12 Feb 2025) EndedAt: 2025-02-12 23:31:22 -0500 (Wed, 12 Feb 2025) EllapsedTime: 213.0 seconds RetCode: 0 Status: OK CheckDir: smartid.Rcheck Warnings: 0