Package: smartid Version: 1.3.2 Command: /home/biocbuild/bbs-3.21-bioc/R/bin/R CMD check --install=check:smartid.install-out.txt --library=/home/biocbuild/bbs-3.21-bioc/R/site-library --timings smartid_1.3.2.tar.gz StartedAt: 2025-02-10 02:46:18 -0500 (Mon, 10 Feb 2025) EndedAt: 2025-02-10 02:50:11 -0500 (Mon, 10 Feb 2025) EllapsedTime: 233.3 seconds RetCode: 0 Status: OK CheckDir: smartid.Rcheck Warnings: 0