Package: smartid Version: 1.3.2 Command: rm -rf smartid.buildbin-libdir && mkdir smartid.buildbin-libdir && E:\biocbuild\bbs-3.21-bioc\R\bin\R.exe CMD INSTALL --build --library=smartid.buildbin-libdir smartid_1.3.2.tar.gz StartedAt: 2025-02-13 08:55:47 -0500 (Thu, 13 Feb 2025) EndedAt: 2025-02-13 08:56:23 -0500 (Thu, 13 Feb 2025) EllapsedTime: 36.4 seconds RetCode: 0 Status: OK PackageFile: smartid_1.3.2.zip PackageFileSize: 1.517 MiB