Package: smartid Version: 1.3.2 Command: E:\biocbuild\bbs-3.21-bioc\R\bin\R.exe CMD check --no-multiarch --install=check:smartid.install-out.txt --library=E:\biocbuild\bbs-3.21-bioc\R\library --no-vignettes --timings smartid_1.3.2.tar.gz StartedAt: 2025-02-10 05:35:08 -0500 (Mon, 10 Feb 2025) EndedAt: 2025-02-10 05:38:52 -0500 (Mon, 10 Feb 2025) EllapsedTime: 224.4 seconds RetCode: 0 Status: OK CheckDir: smartid.Rcheck Warnings: 0