Package: smoothclust Version: 1.3.0 Command: rm -rf smoothclust.buildbin-libdir && mkdir smoothclust.buildbin-libdir && /Users/biocbuild/BBS/utils/build-universal.sh smoothclust_1.3.0.tar.gz /Library/Frameworks/R.framework/Resources/bin/R smoothclust.buildbin-libdir StartedAt: 2025-02-09 22:31:37 -0500 (Sun, 09 Feb 2025) EndedAt: 2025-02-09 22:31:50 -0500 (Sun, 09 Feb 2025) EllapsedTime: 12.3 seconds RetCode: 0 Status: OK PackageFile: smoothclust_1.3.0.tgz PackageFileSize: 1.104 MiB