Package: smoothclust Version: 1.3.0 Command: /Library/Frameworks/R.framework/Resources/bin/R CMD check --install=check:smoothclust.install-out.txt --library=/Library/Frameworks/R.framework/Resources/library --no-vignettes --timings smoothclust_1.3.0.tar.gz StartedAt: 2025-02-09 21:26:31 -0500 (Sun, 09 Feb 2025) EndedAt: 2025-02-09 21:28:57 -0500 (Sun, 09 Feb 2025) EllapsedTime: 145.7 seconds RetCode: 0 Status: OK CheckDir: smoothclust.Rcheck Warnings: 0