Package: smoothclust Version: 1.3.0 Command: /Library/Frameworks/R.framework/Resources/bin/R CMD INSTALL smoothclust StartedAt: 2025-02-09 15:08:47 -0500 (Sun, 09 Feb 2025) EndedAt: 2025-02-09 15:08:58 -0500 (Sun, 09 Feb 2025) EllapsedTime: 11.3 seconds RetCode: 0 Status: OK