Package: smoothclust Version: 1.3.0 Command: /home/biocbuild/R/R/bin/R CMD build --keep-empty-dirs --no-resave-data smoothclust StartedAt: 2025-01-29 02:26:57 -0000 (Wed, 29 Jan 2025) EndedAt: 2025-01-29 02:26:59 -0000 (Wed, 29 Jan 2025) EllapsedTime: 2.0 seconds RetCode: 1 Status: ERROR PackageFile: None PackageFileSize: NA