Package: smoothclust Version: 1.3.0 Command: /home/biocbuild/R/R/bin/R CMD INSTALL smoothclust StartedAt: 2025-01-29 19:49:32 -0000 (Wed, 29 Jan 2025) EndedAt: 2025-01-29 19:49:33 -0000 (Wed, 29 Jan 2025) EllapsedTime: 1.3 seconds RetCode: 1 Status: ERROR