Package: smoothclust Version: 1.3.0 Command: /home/biocbuild/bbs-3.21-bioc/R/bin/R CMD build --keep-empty-dirs --no-resave-data smoothclust StartedAt: 2025-02-09 19:20:18 -0500 (Sun, 09 Feb 2025) EndedAt: 2025-02-09 19:23:13 -0500 (Sun, 09 Feb 2025) EllapsedTime: 174.2 seconds RetCode: 0 Status: OK PackageFile: smoothclust_1.3.0.tar.gz PackageFileSize: 1.014 MiB