Package: smoothclust Version: 1.3.0 Command: chmod a+r smoothclust -R && E:\biocbuild\bbs-3.21-bioc\R\bin\R.exe CMD build --keep-empty-dirs --no-resave-data smoothclust StartedAt: 2025-02-12 21:51:24 -0500 (Wed, 12 Feb 2025) EndedAt: 2025-02-12 21:55:44 -0500 (Wed, 12 Feb 2025) EllapsedTime: 260.6 seconds RetCode: 0 Status: OK PackageFile: smoothclust_1.3.0.tar.gz PackageFileSize: 326.4 KiB