Package: snapcount Version: 1.19.0 Command: /Library/Frameworks/R.framework/Resources/bin/R CMD build --keep-empty-dirs --no-resave-data snapcount StartedAt: 2025-02-12 17:39:50 -0500 (Wed, 12 Feb 2025) EndedAt: 2025-02-12 17:41:03 -0500 (Wed, 12 Feb 2025) EllapsedTime: 73.8 seconds RetCode: 0 Status: OK PackageFile: snapcount_1.19.0.tar.gz PackageFileSize: 514 KiB