Package: snapcount Version: 1.19.0 Command: /home/biocbuild/R/R/bin/R CMD INSTALL snapcount StartedAt: 2025-01-29 19:39:27 -0000 (Wed, 29 Jan 2025) EndedAt: 2025-01-29 19:40:08 -0000 (Wed, 29 Jan 2025) EllapsedTime: 40.8 seconds RetCode: 0 Status: OK