Package: snapcount Version: 1.19.0 Command: /Library/Frameworks/R.framework/Resources/bin/R CMD build --keep-empty-dirs --no-resave-data snapcount StartedAt: 2025-02-09 18:31:15 -0500 (Sun, 09 Feb 2025) EndedAt: 2025-02-09 18:33:01 -0500 (Sun, 09 Feb 2025) EllapsedTime: 106.3 seconds RetCode: 0 Status: OK PackageFile: snapcount_1.19.0.tar.gz PackageFileSize: 514 KiB