Package: snapcount Version: 1.19.0 Command: /Library/Frameworks/R.framework/Resources/bin/R CMD check --install=check:snapcount.install-out.txt --library=/Library/Frameworks/R.framework/Resources/library --no-vignettes --timings snapcount_1.19.0.tar.gz StartedAt: 2025-02-09 23:43:52 -0500 (Sun, 09 Feb 2025) EndedAt: 2025-02-09 23:49:33 -0500 (Sun, 09 Feb 2025) EllapsedTime: 340.5 seconds RetCode: 0 Status: OK CheckDir: snapcount.Rcheck Warnings: 0