Package: snapcount Version: 1.19.0 Command: /Library/Frameworks/R.framework/Resources/bin/R CMD INSTALL snapcount StartedAt: 2025-02-09 15:10:07 -0500 (Sun, 09 Feb 2025) EndedAt: 2025-02-09 15:10:50 -0500 (Sun, 09 Feb 2025) EllapsedTime: 42.3 seconds RetCode: 0 Status: OK