Package: snapcount Version: 1.19.0 Command: /home/biocbuild/bbs-3.21-bioc/R/bin/R CMD build --keep-empty-dirs --no-resave-data snapcount StartedAt: 2025-02-09 19:20:37 -0500 (Sun, 09 Feb 2025) EndedAt: 2025-02-09 19:22:13 -0500 (Sun, 09 Feb 2025) EllapsedTime: 95.1 seconds RetCode: 0 Status: OK PackageFile: snapcount_1.19.0.tar.gz PackageFileSize: 514 KiB