Package: snapcount Version: 1.19.0 Command: /home/biocbuild/bbs-3.21-bioc/R/bin/R CMD check --install=check:snapcount.install-out.txt --library=/home/biocbuild/bbs-3.21-bioc/R/site-library --timings snapcount_1.19.0.tar.gz StartedAt: 2025-02-10 02:47:02 -0500 (Mon, 10 Feb 2025) EndedAt: 2025-02-10 02:53:23 -0500 (Mon, 10 Feb 2025) EllapsedTime: 380.5 seconds RetCode: 0 Status: OK CheckDir: snapcount.Rcheck Warnings: 0