Package: snapcount Version: 1.19.0 Command: /home/biocbuild/bbs-3.21-bioc/R/bin/R CMD INSTALL snapcount StartedAt: 2025-02-12 15:30:13 -0500 (Wed, 12 Feb 2025) EndedAt: 2025-02-12 15:30:38 -0500 (Wed, 12 Feb 2025) EllapsedTime: 25.0 seconds RetCode: 0 Status: OK