Package: snapcount Version: 1.19.0 Command: rm -rf snapcount.buildbin-libdir && mkdir snapcount.buildbin-libdir && E:\biocbuild\bbs-3.21-bioc\R\bin\R.exe CMD INSTALL --build --library=snapcount.buildbin-libdir snapcount_1.19.0.tar.gz StartedAt: 2025-02-13 08:56:04 -0500 (Thu, 13 Feb 2025) EndedAt: 2025-02-13 08:56:52 -0500 (Thu, 13 Feb 2025) EllapsedTime: 48.0 seconds RetCode: 0 Status: OK PackageFile: snapcount_1.19.0.zip PackageFileSize: 627.2 KiB