Package: snm Version: 1.55.0 Command: rm -rf snm.buildbin-libdir && mkdir snm.buildbin-libdir && /Users/biocbuild/BBS/utils/build-universal.sh snm_1.55.0.tar.gz /Library/Frameworks/R.framework/Resources/bin/R snm.buildbin-libdir StartedAt: 2025-02-09 22:31:40 -0500 (Sun, 09 Feb 2025) EndedAt: 2025-02-09 22:31:44 -0500 (Sun, 09 Feb 2025) EllapsedTime: 3.1 seconds RetCode: 0 Status: OK PackageFile: snm_1.55.0.tgz PackageFileSize: 616.5 KiB