Package: snm Version: 1.55.0 Command: /Library/Frameworks/R.framework/Resources/bin/R CMD check --install=check:snm.install-out.txt --library=/Library/Frameworks/R.framework/Resources/library --no-vignettes --timings snm_1.55.0.tar.gz StartedAt: 2025-02-09 21:27:09 -0500 (Sun, 09 Feb 2025) EndedAt: 2025-02-09 21:28:59 -0500 (Sun, 09 Feb 2025) EllapsedTime: 110.2 seconds RetCode: 0 Status: OK CheckDir: snm.Rcheck Warnings: 0